BEGIN:VCALENDAR
VERSION:2.0
PRODID:-//New Bern Civitan Club - ECPv6.15.20//NONSGML v1.0//EN
CALSCALE:GREGORIAN
METHOD:PUBLISH
X-ORIGINAL-URL:https://newberncivitanclub.org
X-WR-CALDESC:Events for New Bern Civitan Club
REFRESH-INTERVAL;VALUE=DURATION:PT1H
X-Robots-Tag:noindex
X-PUBLISHED-TTL:PT1H
BEGIN:VTIMEZONE
TZID:America/New_York
BEGIN:DAYLIGHT
TZOFFSETFROM:-0500
TZOFFSETTO:-0400
TZNAME:EDT
DTSTART:20240310T070000
END:DAYLIGHT
BEGIN:STANDARD
TZOFFSETFROM:-0400
TZOFFSETTO:-0500
TZNAME:EST
DTSTART:20241103T060000
END:STANDARD
BEGIN:DAYLIGHT
TZOFFSETFROM:-0500
TZOFFSETTO:-0400
TZNAME:EDT
DTSTART:20250309T070000
END:DAYLIGHT
BEGIN:STANDARD
TZOFFSETFROM:-0400
TZOFFSETTO:-0500
TZNAME:EST
DTSTART:20251102T060000
END:STANDARD
BEGIN:DAYLIGHT
TZOFFSETFROM:-0500
TZOFFSETTO:-0400
TZNAME:EDT
DTSTART:20260308T070000
END:DAYLIGHT
BEGIN:STANDARD
TZOFFSETFROM:-0400
TZOFFSETTO:-0500
TZNAME:EST
DTSTART:20261101T060000
END:STANDARD
BEGIN:DAYLIGHT
TZOFFSETFROM:-0500
TZOFFSETTO:-0400
TZNAME:EDT
DTSTART:20270314T070000
END:DAYLIGHT
BEGIN:STANDARD
TZOFFSETFROM:-0400
TZOFFSETTO:-0500
TZNAME:EST
DTSTART:20271107T060000
END:STANDARD
END:VTIMEZONE
BEGIN:VEVENT
DTSTART;TZID=America/New_York:20251204T090000
DTEND;TZID=America/New_York:20251212T120000
DTSTAMP:20260421T183650
CREATED:20251201T173647Z
LAST-MODIFIED:20251201T173717Z
UID:29723-1764838800-1765540800@newberncivitanclub.org
SUMMARY:Santa Land - Dec. 4th-12th (Private Event)
DESCRIPTION:Santa Jim has dry-cleaned his suit\, polished his boots\, washed his gloves\, fluffed his beard\, cleaned his wire-rimmed glasses\, and loaded his sack of gifts. He is ready again for Santa Land\, seeing over 200 children from the Craven County Pre-K program. \nThe Coastal Photography Club will be taking and developing the children’s pictures with Santa. Rick Meyer will again be coordinating this effort. Hats\, scarves\, gloves & mittens have again been managed by Operation Keep Warm Chairperson\, Eileen Buscemi. Books for the children have been collected throughout the year with special thanks to contributors Mary Lorio and Linda Gorecki. Club and community members have donated stuffed animals.
URL:https://newberncivitanclub.org/event/santa-land-2025/
LOCATION:NC
CATEGORIES:Community Project
END:VEVENT
BEGIN:VEVENT
DTSTART;TZID=America/New_York:20251206T080000
DTEND;TZID=America/New_York:20251206T140000
DTSTAMP:20260421T183650
CREATED:20251201T172742Z
LAST-MODIFIED:20251201T172840Z
UID:29711-1765008000-1765029600@newberncivitanclub.org
SUMMARY:Hubs Peanut Sale (Fundraiser)
DESCRIPTION:Hubs Peanuts in four yummy kinds: \n\nSalted\nChocolate\nHoney-kissed\nPeanut brittle\n\nThey make great gifts\, stocking stuffers\, or car-ride treats. \nEvery single dollar raised stays right here in Craven County and New Bern. Your support helps local groups\, families\, and kids. It means a lot to us\, and we’re thankful for everyone who stops by\, waves\, or shares the news with a friend.
URL:https://newberncivitanclub.org/event/hubs-peanut-sale/
LOCATION:New Bern Farmer’s Market\, 421\, New Bern\, NC\, 28560
CATEGORIES:Fundraiser
END:VEVENT
BEGIN:VEVENT
DTSTART;TZID=America/New_York:20251208T173000
DTEND;TZID=America/New_York:20251208T190000
DTSTAMP:20260421T183650
CREATED:20251201T174310Z
LAST-MODIFIED:20251201T174437Z
UID:29728-1765215000-1765220400@newberncivitanclub.org
SUMMARY:Shelter Dinner & Christmas Party (Private Event)
DESCRIPTION:Annual club-provided Christmas dinner and party (Santa included) at RCS!
URL:https://newberncivitanclub.org/event/shelter-dinner-christmas-party-private-event/
LOCATION:NC
CATEGORIES:Community Project
END:VEVENT
BEGIN:VEVENT
DTSTART;TZID=America/New_York:20251212T120000
DTEND;TZID=America/New_York:20251212T130000
DTSTAMP:20260421T183650
CREATED:20250713T013705Z
LAST-MODIFIED:20251201T174709Z
UID:28740-1765540800-1765544400@newberncivitanclub.org
SUMMARY:Club Christmas Party
DESCRIPTION:Please RSVP to Secretary\, Maureen Comer by Dec. 9th.
URL:https://newberncivitanclub.org/event/xmas-party-2025/
LOCATION:Paula’s Restaurant\, 3946 Dr MLK Jr Blvd.\, New Bern\, NC
CATEGORIES:Lunch Meeting
END:VEVENT
BEGIN:VEVENT
DTSTART;TZID=America/New_York:20251213T080000
DTEND;TZID=America/New_York:20251213T140000
DTSTAMP:20260421T183650
CREATED:20251201T172930Z
LAST-MODIFIED:20251201T172930Z
UID:29719-1765612800-1765634400@newberncivitanclub.org
SUMMARY:Hubs Peanut Sale (Fundraiser)
DESCRIPTION:Hubs Peanuts in four yummy kinds: \n\nSalted\nChocolate\nHoney-kissed\nPeanut brittle\n\nThey make great gifts\, stocking stuffers\, or car-ride treats. \nEvery single dollar raised stays right here in Craven County and New Bern. Your support helps local groups\, families\, and kids. It means a lot to us\, and we’re thankful for everyone who stops by\, waves\, or shares the news with a friend.
URL:https://newberncivitanclub.org/event/hubs-peanut-sale-fundraiser/
LOCATION:New Bern Farmer’s Market\, 421\, New Bern\, NC\, 28560
CATEGORIES:Fundraiser
END:VEVENT
BEGIN:VEVENT
DTSTART;TZID=America/New_York:20251220T080000
DTEND;TZID=America/New_York:20251220T140000
DTSTAMP:20260421T183650
CREATED:20251201T173050Z
LAST-MODIFIED:20251201T173050Z
UID:29721-1766217600-1766239200@newberncivitanclub.org
SUMMARY:Hubs Peanut Sale (Fundraiser)
DESCRIPTION:Hubs Peanuts in four yummy kinds: \n\nSalted\nChocolate\nHoney-kissed\nPeanut brittle\n\nThey make great gifts\, stocking stuffers\, or car-ride treats. \nEvery single dollar raised stays right here in Craven County and New Bern. Your support helps local groups\, families\, and kids. It means a lot to us\, and we’re thankful for everyone who stops by\, waves\, or shares the news with a friend.
URL:https://newberncivitanclub.org/event/hubs-peanut-sale-fundraiser-2/
LOCATION:New Bern Farmer’s Market\, 421\, New Bern\, NC\, 28560
CATEGORIES:Fundraiser
END:VEVENT
BEGIN:VEVENT
DTSTART;TZID=America/New_York:20260122T173000
DTEND;TZID=America/New_York:20260122T190000
DTSTAMP:20260421T183650
CREATED:20260117T204127Z
LAST-MODIFIED:20260117T204244Z
UID:31719-1769103000-1769108400@newberncivitanclub.org
SUMMARY:Dinner Meeting
DESCRIPTION:Guest speakers: Rowena and Gary Engelgau from Craven Feed\, our current Quarterly Focus. Order meal at 5:30 p.m. Meeting starts at 6:00 p.m. Please RSVP to Secretary\, Maureen Comer.
URL:https://newberncivitanclub.org/event/dinner-meeting/
LOCATION:Paula’s Restaurant\, 3946 Dr MLK Jr Blvd.\, New Bern\, NC
CATEGORIES:Dinner Meeting
END:VEVENT
BEGIN:VEVENT
DTSTART;TZID=America/New_York:20260213T130000
DTEND;TZID=America/New_York:20260213T143000
DTSTAMP:20260421T183650
CREATED:20260117T204829Z
LAST-MODIFIED:20260117T205234Z
UID:31726-1770987600-1770993000@newberncivitanclub.org
SUMMARY:Clergy Appreciation Day Luncheon
DESCRIPTION:Please note time and place change just for this one meeting. RSVP Maureen Comer by February 6th.
URL:https://newberncivitanclub.org/event/clergy-appreciation-day-2026/
LOCATION:Religious Community Services\, 919 George St\, New Bern\, NC\, 28560\, United States
CATEGORIES:Lunch Meeting
END:VEVENT
BEGIN:VEVENT
DTSTART;TZID=America/New_York:20260226T173000
DTEND;TZID=America/New_York:20260226T190000
DTSTAMP:20260421T183650
CREATED:20260212T135219Z
LAST-MODIFIED:20260212T135219Z
UID:32459-1772127000-1772132400@newberncivitanclub.org
SUMMARY:Dinner Meeting
DESCRIPTION:Guest speakers: Karen Zacharius\, representing the planned New Bern Children’s’ Museum. Order meal at 5:30 p.m. Meeting starts at 6:00 p.m. Please RSVP to Secretary\, Maureen Comer.
URL:https://newberncivitanclub.org/event/dinner-meeting-2/
LOCATION:Paula’s Restaurant\, 3946 Dr MLK Jr Blvd.\, New Bern\, NC
CATEGORIES:Dinner Meeting
END:VEVENT
BEGIN:VEVENT
DTSTART;TZID=America/New_York:20260313T173000
DTEND;TZID=America/New_York:20260313T190000
DTSTAMP:20260421T183650
CREATED:20260312T121600Z
LAST-MODIFIED:20260312T121718Z
UID:32791-1773423000-1773428400@newberncivitanclub.org
SUMMARY:Dinner Meeting
DESCRIPTION:Guest speakers: Chris Worsinger\, from Craven County Special Olympics\, and Amanda Delgado\, Executive Director of Coastal Center for Hope and Healing. Meeting starts at 6:00 p.m. Please RSVP to Eileen Buscemi.
URL:https://newberncivitanclub.org/event/dinner-meeting-3-13-26/
LOCATION:Paula’s Restaurant\, 3946 Dr MLK Jr Blvd.\, New Bern\, NC
CATEGORIES:Dinner Meeting
END:VEVENT
BEGIN:VEVENT
DTSTART;TZID=America/New_York:20260423T173000
DTEND;TZID=America/New_York:20260423T190000
DTSTAMP:20260421T183650
CREATED:20260413T213456Z
LAST-MODIFIED:20260413T213456Z
UID:33326-1776965400-1776970800@newberncivitanclub.org
SUMMARY:Dinner Business Meeting
DESCRIPTION:Speaker: TBA. If you are planning  on attending\, please contact Maureen Comer by Tuesday\, April 21\, so she may call in reservations at the restaurant. Meeting starts at 6:00 p.m.
URL:https://newberncivitanclub.org/event/dinner-business-meeting/
LOCATION:Paula’s Restaurant\, 3946 Dr MLK Jr Blvd.\, New Bern\, NC
CATEGORIES:Dinner Meeting
END:VEVENT
BEGIN:VEVENT
DTSTART;TZID=America/New_York:20260508T120000
DTEND;TZID=America/New_York:20260508T140000
DTSTAMP:20260421T183650
CREATED:20260413T201030Z
LAST-MODIFIED:20260413T201030Z
UID:33309-1778241600-1778248800@newberncivitanclub.org
SUMMARY:Club Picnic
DESCRIPTION:Our annual Club Picnic will be at Lawson Creek Park at noon on Friday\, May 8.  ALL members\, friends\, guests\, spouses and neighbors are welcome to attend.  It will be catered by FAT FELLAS – BBQ\, Chicken\, beans\, Cole Slaw\, rolls and drinks.
URL:https://newberncivitanclub.org/event/club-picnic/
LOCATION:Lawson Creek Park Pavilion
CATEGORIES:Lunch Meeting
END:VEVENT
BEGIN:VEVENT
DTSTART;TZID=America/New_York:20260520T090000
DTEND;TZID=America/New_York:20260520T130000
DTSTAMP:20260421T183650
CREATED:20260413T201351Z
LAST-MODIFIED:20260413T201902Z
UID:33313-1779267600-1779282000@newberncivitanclub.org
SUMMARY:Game Day & Picnic at Creekside
DESCRIPTION:Game Day & Picnic for our developmentally disabled friends! If you can help with chaperoning games\, please contact Dennis Pymm. If you can help with the picnic – setup\, cleanup\, donating and serving food – contact Betty Todd.
URL:https://newberncivitanclub.org/event/game-day-picnic/
LOCATION:Creekside Park\, 1821 Old Airport Rd\,\, New Bern\, NC\, 28562\, United States
CATEGORIES:Community Project
END:VEVENT
BEGIN:VEVENT
DTSTART;TZID=America/New_York:20260704T080000
DTEND;TZID=America/New_York:20260704T130000
DTSTAMP:20260421T183650
CREATED:20260413T213705Z
LAST-MODIFIED:20260413T213705Z
UID:28744-1783152000-1783170000@newberncivitanclub.org
SUMMARY:Annual Rib Sale Fundraiser
DESCRIPTION:Stay tuned for details!
URL:https://newberncivitanclub.org/event/annual-rib-sale-fundraiser/
LOCATION:Piggy Wiggly\, 1208 Simmons St.\, New Bern\, NC
CATEGORIES:Fundraiser
END:VEVENT
END:VCALENDAR