BEGIN:VCALENDAR
VERSION:2.0
PRODID:-//New Bern Civitan Club - ECPv6.15.20//NONSGML v1.0//EN
CALSCALE:GREGORIAN
METHOD:PUBLISH
X-WR-CALNAME:New Bern Civitan Club
X-ORIGINAL-URL:https://newberncivitanclub.org
X-WR-CALDESC:Events for New Bern Civitan Club
REFRESH-INTERVAL;VALUE=DURATION:PT1H
X-Robots-Tag:noindex
X-PUBLISHED-TTL:PT1H
BEGIN:VTIMEZONE
TZID:America/New_York
BEGIN:DAYLIGHT
TZOFFSETFROM:-0500
TZOFFSETTO:-0400
TZNAME:EDT
DTSTART:20240310T070000
END:DAYLIGHT
BEGIN:STANDARD
TZOFFSETFROM:-0400
TZOFFSETTO:-0500
TZNAME:EST
DTSTART:20241103T060000
END:STANDARD
BEGIN:DAYLIGHT
TZOFFSETFROM:-0500
TZOFFSETTO:-0400
TZNAME:EDT
DTSTART:20250309T070000
END:DAYLIGHT
BEGIN:STANDARD
TZOFFSETFROM:-0400
TZOFFSETTO:-0500
TZNAME:EST
DTSTART:20251102T060000
END:STANDARD
BEGIN:DAYLIGHT
TZOFFSETFROM:-0500
TZOFFSETTO:-0400
TZNAME:EDT
DTSTART:20260308T070000
END:DAYLIGHT
BEGIN:STANDARD
TZOFFSETFROM:-0400
TZOFFSETTO:-0500
TZNAME:EST
DTSTART:20261101T060000
END:STANDARD
END:VTIMEZONE
BEGIN:VEVENT
DTSTART;TZID=America/New_York:20251204T090000
DTEND;TZID=America/New_York:20251212T120000
DTSTAMP:20260421T210944
CREATED:20251201T173647Z
LAST-MODIFIED:20251201T173717Z
UID:29723-1764838800-1765540800@newberncivitanclub.org
SUMMARY:Santa Land - Dec. 4th-12th (Private Event)
DESCRIPTION:Santa Jim has dry-cleaned his suit\, polished his boots\, washed his gloves\, fluffed his beard\, cleaned his wire-rimmed glasses\, and loaded his sack of gifts. He is ready again for Santa Land\, seeing over 200 children from the Craven County Pre-K program. \nThe Coastal Photography Club will be taking and developing the children’s pictures with Santa. Rick Meyer will again be coordinating this effort. Hats\, scarves\, gloves & mittens have again been managed by Operation Keep Warm Chairperson\, Eileen Buscemi. Books for the children have been collected throughout the year with special thanks to contributors Mary Lorio and Linda Gorecki. Club and community members have donated stuffed animals.
URL:https://newberncivitanclub.org/event/santa-land-2025/
LOCATION:NC
CATEGORIES:Community Project
END:VEVENT
BEGIN:VEVENT
DTSTART;TZID=America/New_York:20251114T120000
DTEND;TZID=America/New_York:20251114T130000
DTSTAMP:20260421T210944
CREATED:20250713T013627Z
LAST-MODIFIED:20251027T221143Z
UID:28738-1763121600-1763125200@newberncivitanclub.org
SUMMARY:Lunch Meeting
DESCRIPTION:Guest speaker: Amanda Banks\, Beary Merry Christmas – downtown New Bern events for the holiday season. Order lunch at 11:30 p.m. Meeting starts at noon. Please RSVP to Secretary\, Maureen Comer.
URL:https://newberncivitanclub.org/event/lunch-meeting-9/
LOCATION:Paula’s Restaurant\, 3946 Dr MLK Jr Blvd.\, New Bern\, NC
CATEGORIES:Lunch Meeting
END:VEVENT
BEGIN:VEVENT
DTSTART;TZID=America/New_York:20251023T180000
DTEND;TZID=America/New_York:20251023T190000
DTSTAMP:20260421T210944
CREATED:20250713T013825Z
LAST-MODIFIED:20251010T012314Z
UID:28742-1761242400-1761246000@newberncivitanclub.org
SUMMARY:Dinner Meeting
DESCRIPTION:Guest speaker: Dr. Dwight Carlblom\, Executive Director\, Craven Literacy Council. \nOrder dinner at 5:30 p.m. Meeting begins at 6:00 p.m. Please RSVP to Secretary\, Maureen Comer.
URL:https://newberncivitanclub.org/event/dinner-meeting-9/
LOCATION:Paula’s Restaurant\, 3946 Dr MLK Jr Blvd.\, New Bern\, NC
CATEGORIES:Dinner Meeting
END:VEVENT
END:VCALENDAR